Workbook

Sheet 体力アップ記録シート
A1: 体力アップ記録シート | M1: ３年生から６年生までの体力調査を記録し、自分の体力の変化を知ろう。 | AL1: 名前
A3: 握力（単位：kg） | P3: 今年の目標 | AE3: 上体起こし（単位：回） | AT3: 今年の目標
A4: 学年 | C4: ３年生 | F4: ４年生 | I4: ５年生 | L4: ６年生 | P4: 学年 | R4: ３年生 | U4: ４年生 | X4: ５年生 | AA4: ６年生 | AE4: 学年 | AG4: ３年生 | AJ4: ４年生 | AM4: ５年生 | AP4: ６年生 | AT4: 学年 | AV4: ３年生 | AY4: ４年生 | BB4: ５年生 | BE4: ６年生
A5: 右 | P5: 右 | AE5: 回数 | AT5: 回数
A6: 左 | P6: 左
A7: 平均 | C7: =IFERROR(AVERAGE(C5:E6),"") | F7: =IFERROR(AVERAGE(F5:H6),"") | I7: =IFERROR(AVERAGE(I5:K6),"") | L7: =IFERROR(AVERAGE(L5:N6),"") | P7: 平均 | R7: =IFERROR(AVERAGE(R5:T6),"") | U7: =IFERROR(AVERAGE(U5:W6),"") | X7: =IFERROR(AVERAGE(X5:Z6),"") | AA7: =IFERROR(AVERAGE(AA5:AC6),"") | AE7: 得点 | AG7: =IF(AG5="",0,IF($AY$1="男",IF(AG5<3,1,IF(AG5<6,2,IF(AG5<9,3,IF(AG5<12,4,IF(AG5<15,5,IF(AG5<18,6,IF(AG5<20,7,IF(AG5<23,8,IF(AG5<26,9,10))))))))),IF(AG5<3,1,IF(AG5<6,2,IF(AG5<9,3,IF(AG5<12,4,IF(AG5<14,5,IF(AG5<16,6,IF(AG5<18,7,IF(AG5<20,8,IF(AG5<23,9,10))))))))))) -> 0 | AJ7: =IF(AJ5="",0,IF($AY$1="男",IF(AJ5<3,1,IF(AJ5<6,2,IF(AJ5<9,3,IF(AJ5<12,4,IF(AJ5<15,5,IF(AJ5<18,6,IF(AJ5<20,7,IF(AJ5<23,8,IF(AJ5<26,9,10))))))))),IF(AJ5<3,1,IF(AJ5<6,2,IF(AJ5<9,3,IF(AJ5<12,4,IF(AJ5<14,5,IF(AJ5<16,6,IF(AJ5<18,7,IF(AJ5<20,8,IF(AJ5<23,9,10))))))))))) -> 0 | AM7: =IF(AM5="",0,IF($AY$1="男",IF(AM5<3,1,IF(AM5<6,2,IF(AM5<9,3,IF(AM5<12,4,IF(AM5<15,5,IF(AM5<18,6,IF(AM5<20,7,IF(AM5<23,8,IF(AM5<26,9,10))))))))),IF(AM5<3,1,IF(AM5<6,2,IF(AM5<9,3,IF(AM5<12,4,IF(AM5<14,5,IF(AM5<16,6,IF(AM5<18,7,IF(AM5<20,8,IF(AM5<23,9,10))))))))))) -> 0 | AP7: =IF(AP5="",0,IF($AY$1="男",IF(AP5<3,1,IF(AP5<6,2,IF(AP5<9,3,IF(AP5<12,4,IF(AP5<15,5,IF(AP5<18,6,IF(AP5<20,7,IF(AP5<23,8,IF(AP5<26,9,10))))))))),IF(AP5<3,1,IF(AP5<6,2,IF(AP5<9,3,IF(AP5<12,4,IF(AP5<14,5,IF(AP5<16,6,IF(AP5<18,7,IF(AP5<20,8,IF(AP5<23,9,10))))))))))) -> 0 | AT7: 得点 | AV7: =IF(AV5="",0,IF($AY$1="男",IF(AV5<3,1,IF(AV5<6,2,IF(AV5<9,3,IF(AV5<12,4,IF(AV5<15,5,IF(AV5<18,6,IF(AV5<20,7,IF(AV5<23,8,IF(AV5<26,9,10))))))))),IF(AV5<3,1,IF(AV5<6,2,IF(AV5<9,3,IF(AV5<12,4,IF(AV5<14,5,IF(AV5<16,6,IF(AV5<18,7,IF(AV5<20,8,IF(AV5<23,9,10))))))))))) -> 0 | AY7: =IF(AY5="",0,IF($AY$1="男",IF(AY5<3,1,IF(AY5<6,2,IF(AY5<9,3,IF(AY5<12,4,IF(AY5<15,5,IF(AY5<18,6,IF(AY5<20,7,IF(AY5<23,8,IF(AY5<26,9,10))))))))),IF(AY5<3,1,IF(AY5<6,2,IF(AY5<9,3,IF(AY5<12,4,IF(AY5<14,5,IF(AY5<16,6,IF(AY5<18,7,IF(AY5<20,8,IF(AY5<23,9,10))))))))))) -> 0 | BB7: =IF(BB5="",0,IF($AY$1="男",IF(BB5<3,1,IF(BB5<6,2,IF(BB5<9,3,IF(BB5<12,4,IF(BB5<15,5,IF(BB5<18,6,IF(BB5<20,7,IF(BB5<23,8,IF(BB5<26,9,10))))))))),IF(BB5<3,1,IF(BB5<6,2,IF(BB5<9,3,IF(BB5<12,4,IF(BB5<14,5,IF(BB5<16,6,IF(BB5<18,7,IF(BB5<20,8,IF(BB5<23,9,10))))))))))) -> 0 | BE7: =IF(BE5="",0,IF($AY$1="男",IF(BE5<3,1,IF(BE5<6,2,IF(BE5<9,3,IF(BE5<12,4,IF(BE5<15,5,IF(BE5<18,6,IF(BE5<20,7,IF(BE5<23,8,IF(BE5<26,9,10))))))))),IF(BE5<3,1,IF(BE5<6,2,IF(BE5<9,3,IF(BE5<12,4,IF(BE5<14,5,IF(BE5<16,6,IF(BE5<18,7,IF(BE5<20,8,IF(BE5<23,9,10))))))))))) -> 0
A8: 得点 | C8: =IF(C7="",0,IF($AY$1="男",IF(C7<5,1,IF(C7<7,2,IF(C7<9,3,IF(C7<11,4,IF(C7<14,5,IF(C7<17,6,IF(C7<20,7,IF(C7<23,8,IF(C7<26,9,10))))))))),IF(C7<4,1,IF(C7<7,2,IF(C7<9,3,IF(C7<11,4,IF(C7<13,5,IF(C7<16,6,IF(C7<19,7,IF(C7<22,8,IF(C7<25,9,10))))))))))) -> 0 | F8: =IF(F7="",0,IF($AY$1="男",IF(F7<5,1,IF(F7<7,2,IF(F7<9,3,IF(F7<11,4,IF(F7<14,5,IF(F7<17,6,IF(F7<20,7,IF(F7<23,8,IF(F7<26,9,10))))))))),IF(F7<4,1,IF(F7<7,2,IF(F7<9,3,IF(F7<11,4,IF(F7<13,5,IF(F7<16,6,IF(F7<19,7,IF(F7<22,8,IF(F7<25,9,10))))))))))) -> 0 | I8: =IF(I7="",0,IF($AY$1="男",IF(I7<5,1,IF(I7<7,2,IF(I7<9,3,IF(I7<11,4,IF(I7<14,5,IF(I7<17,6,IF(I7<20,7,IF(I7<23,8,IF(I7<26,9,10))))))))),IF(I7<4,1,IF(I7<7,2,IF(I7<9,3,IF(I7<11,4,IF(I7<13,5,IF(I7<16,6,IF(I7<19,7,IF(I7<22,8,IF(I7<25,9,10))))))))))) -> 0 | L8: =IF(L7="",0,IF($AY$1="男",IF(L7<5,1,IF(L7<7,2,IF(L7<9,3,IF(L7<11,4,IF(L7<14,5,IF(L7<17,6,IF(L7<20,7,IF(L7<23,8,IF(L7<26,9,10))))))))),IF(L7<4,1,IF(L7<7,2,IF(L7<9,3,IF(L7<11,4,IF(L7<13,5,IF(L7<16,6,IF(L7<19,7,IF(L7<22,8,IF(L7<25,9,10))))))))))) -> 0 | P8: 得点 | R8: =IF(R7="",0,IF($AY$1="男",IF(R7<5,1,IF(R7<7,2,IF(R7<9,3,IF(R7<11,4,IF(R7<14,5,IF(R7<17,6,IF(R7<20,7,IF(R7<23,8,IF(R7<26,9,10))))))))),IF(R7<4,1,IF(R7<7,2,IF(R7<9,3,IF(R7<11,4,IF(R7<13,5,IF(R7<16,6,IF(R7<19,7,IF(R7<22,8,IF(R7<25,9,10))))))))))) -> 0 | U8: =IF(U7="",0,IF($AY$1="男",IF(U7<5,1,IF(U7<7,2,IF(U7<9,3,IF(U7<11,4,IF(U7<14,5,IF(U7<17,6,IF(U7<20,7,IF(U7<23,8,IF(U7<26,9,10))))))))),IF(U7<4,1,IF(U7<7,2,IF(U7<9,3,IF(U7<11,4,IF(U7<13,5,IF(U7<16,6,IF(U7<19,7,IF(U7<22,8,IF(U7<25,9,10))))))))))) -> 0 | X8: =IF(X7="",0,IF($AY$1="男",IF(X7<5,1,IF(X7<7,2,IF(X7<9,3,IF(X7<11,4,IF(X7<14,5,IF(X7<17,6,IF(X7<20,7,IF(X7<23,8,IF(X7<26,9,10))))))))),IF(X7<4,1,IF(X7<7,2,IF(X7<9,3,IF(X7<11,4,IF(X7<13,5,IF(X7<16,6,IF(X7<19,7,IF(X7<22,8,IF(X7<25,9,10))))))))))) -> 0 | AA8: =IF(AA7="",0,IF($AY$1="男",IF(AA7<5,1,IF(AA7<7,2,IF(AA7<9,3,IF(AA7<11,4,IF(AA7<14,5,IF(AA7<17,6,IF(AA7<20,7,IF(AA7<23,8,IF(AA7<26,9,10))))))))),IF(AA7<4,1,IF(AA7<7,2,IF(AA7<9,3,IF(AA7<11,4,IF(AA7<13,5,IF(AA7<16,6,IF(AA7<19,7,IF(AA7<22,8,IF(AA7<25,9,10))))))))))) -> 0 | AG8: =IF($AY$1="男",IF(AG7<5,1,IF(AG7<7,2,IF(AG7<9,3,IF(AG7<11,4,IF(AG7<14,5,IF(AG7<17,6,IF(AG7<20,7,IF(AG7<23,8,IF(AG7<26,9,10))))))))),IF(AG7<4,1,IF(AG7<7,2,IF(AG7<9,3,IF(AG7<11,4,IF(AG7<13,5,IF(AG7<16,6,IF(AG7<19,7,IF(AG7<22,8,IF(AG7<25,9,10)))))))))) -> 1 | AJ8: =IF($AY$1="男",IF(AJ7<5,1,IF(AJ7<7,2,IF(AJ7<9,3,IF(AJ7<11,4,IF(AJ7<14,5,IF(AJ7<17,6,IF(AJ7<20,7,IF(AJ7<23,8,IF(AJ7<26,9,10))))))))),IF(AJ7<4,1,IF(AJ7<7,2,IF(AJ7<9,3,IF(AJ7<11,4,IF(AJ7<13,5,IF(AJ7<16,6,IF(AJ7<19,7,IF(AJ7<22,8,IF(AJ7<25,9,10)))))))))) -> 1 | AM8: =IF($AY$1="男",IF(AM7<5,1,IF(AM7<7,2,IF(AM7<9,3,IF(AM7<11,4,IF(AM7<14,5,IF(AM7<17,6,IF(AM7<20,7,IF(AM7<23,8,IF(AM7<26,9,10))))))))),IF(AM7<4,1,IF(AM7<7,2,IF(AM7<9,3,IF(AM7<11,4,IF(AM7<13,5,IF(AM7<16,6,IF(AM7<19,7,IF(AM7<22,8,IF(AM7<25,9,10)))))))))) -> 1 | AP8: =IF($AY$1="男",IF(AP7<5,1,IF(AP7<7,2,IF(AP7<9,3,IF(AP7<11,4,IF(AP7<14,5,IF(AP7<17,6,IF(AP7<20,7,IF(AP7<23,8,IF(AP7<26,9,10))))))))),IF(AP7<4,1,IF(AP7<7,2,IF(AP7<9,3,IF(AP7<11,4,IF(AP7<13,5,IF(AP7<16,6,IF(AP7<19,7,IF(AP7<22,8,IF(AP7<25,9,10)))))))))) -> 1 | AV8: =IF($AY$1="男",IF(AV7<5,1,IF(AV7<7,2,IF(AV7<9,3,IF(AV7<11,4,IF(AV7<14,5,IF(AV7<17,6,IF(AV7<20,7,IF(AV7<23,8,IF(AV7<26,9,10))))))))),IF(AV7<4,1,IF(AV7<7,2,IF(AV7<9,3,IF(AV7<11,4,IF(AV7<13,5,IF(AV7<16,6,IF(AV7<19,7,IF(AV7<22,8,IF(AV7<25,9,10)))))))))) -> 1 | AY8: =IF($AY$1="男",IF(AY7<5,1,IF(AY7<7,2,IF(AY7<9,3,IF(AY7<11,4,IF(AY7<14,5,IF(AY7<17,6,IF(AY7<20,7,IF(AY7<23,8,IF(AY7<26,9,10))))))))),IF(AY7<4,1,IF(AY7<7,2,IF(AY7<9,3,IF(AY7<11,4,IF(AY7<13,5,IF(AY7<16,6,IF(AY7<19,7,IF(AY7<22,8,IF(AY7<25,9,10)))))))))) -> 1 | BB8: =IF($AY$1="男",IF(BB7<5,1,IF(BB7<7,2,IF(BB7<9,3,IF(BB7<11,4,IF(BB7<14,5,IF(BB7<17,6,IF(BB7<20,7,IF(BB7<23,8,IF(BB7<26,9,10))))))))),IF(BB7<4,1,IF(BB7<7,2,IF(BB7<9,3,IF(BB7<11,4,IF(BB7<13,5,IF(BB7<16,6,IF(BB7<19,7,IF(BB7<22,8,IF(BB7<25,9,10)))))))))) -> 1 | BE8: =IF($AY$1="男",IF(BE7<5,1,IF(BE7<7,2,IF(BE7<9,3,IF(BE7<11,4,IF(BE7<14,5,IF(BE7<17,6,IF(BE7<20,7,IF(BE7<23,8,IF(BE7<26,9,10))))))))),IF(BE7<4,1,IF(BE7<7,2,IF(BE7<9,3,IF(BE7<11,4,IF(BE7<13,5,IF(BE7<16,6,IF(BE7<19,7,IF(BE7<22,8,IF(BE7<25,9,10)))))))))) -> 1
A10: 長座体前屈（単位：cm） | P10: 今年の目標 | AE10: 反復横とび（単位：点） | AT10: 今年の目標
A11: 学年 | C11: ３年生 | F11: ４年生 | I11: ５年生 | L11: ６年生 | P11: 学年 | R11: ３年生 | U11: ４年生 | X11: ５年生 | AA11: ６年生 | AE11: 学年 | AG11: ３年生 | AJ11: ４年生 | AM11: ５年生 | AP11: ６年生 | AT11: 学年 | AV11: ３年生 | AY11: ４年生 | BB11: ５年生 | BE11: ６年生
A12: ｃｍ | P12: ｃｍ | AE12: 点数 | AT12: 点数
A13: 得点 | C13: =IF(C12="",0,IF($AY$1="男",IF(C12<15,1,IF(C12<19,2,IF(C12<23,3,IF(C12<27,4,IF(C12<30,5,IF(C12<34,6,IF(C12<38,7,IF(C12<43,8,IF(C12<29,9,10))))))))),IF(C12<18,1,IF(C12<21,2,IF(C12<25,3,IF(C12<29,4,IF(C12<33,5,IF(C12<37,6,IF(C12<41,7,IF(C12<46,8,IF(C12<52,9,10))))))))))) -> 0 | F13: =IF(F12="",0,IF($AY$1="男",IF(F12<15,1,IF(F12<19,2,IF(F12<23,3,IF(F12<27,4,IF(F12<30,5,IF(F12<34,6,IF(F12<38,7,IF(F12<43,8,IF(F12<29,9,10))))))))),IF(F12<18,1,IF(F12<21,2,IF(F12<25,3,IF(F12<29,4,IF(F12<33,5,IF(F12<37,6,IF(F12<41,7,IF(F12<46,8,IF(F12<52,9,10))))))))))) -> 0 | I13: =IF(I12="",0,IF($AY$1="男",IF(I12<15,1,IF(I12<19,2,IF(I12<23,3,IF(I12<27,4,IF(I12<30,5,IF(I12<34,6,IF(I12<38,7,IF(I12<43,8,IF(I12<29,9,10))))))))),IF(I12<18,1,IF(I12<21,2,IF(I12<25,3,IF(I12<29,4,IF(I12<33,5,IF(I12<37,6,IF(I12<41,7,IF(I12<46,8,IF(I12<52,9,10))))))))))) -> 0 | L13: =IF(L12="",0,IF($AY$1="男",IF(L12<15,1,IF(L12<19,2,IF(L12<23,3,IF(L12<27,4,IF(L12<30,5,IF(L12<34,6,IF(L12<38,7,IF(L12<43,8,IF(L12<29,9,10))))))))),IF(L12<18,1,IF(L12<21,2,IF(L12<25,3,IF(L12<29,4,IF(L12<33,5,IF(L12<37,6,IF(L12<41,7,IF(L12<46,8,IF(L12<52,9,10))))))))))) -> 0 | P13: 得点 | R13: =IF(R12="",0,IF($AY$1="男",IF(R12<15,1,IF(R12<19,2,IF(R12<23,3,IF(R12<27,4,IF(R12<30,5,IF(R12<34,6,IF(R12<38,7,IF(R12<43,8,IF(R12<29,9,10))))))))),IF(R12<18,1,IF(R12<21,2,IF(R12<25,3,IF(R12<29,4,IF(R12<33,5,IF(R12<37,6,IF(R12<41,7,IF(R12<46,8,IF(R12<52,9,10))))))))))) -> 0 | U13: =IF(U12="",0,IF($AY$1="男",IF(U12<15,1,IF(U12<19,2,IF(U12<23,3,IF(U12<27,4,IF(U12<30,5,IF(U12<34,6,IF(U12<38,7,IF(U12<43,8,IF(U12<29,9,10))))))))),IF(U12<18,1,IF(U12<21,2,IF(U12<25,3,IF(U12<29,4,IF(U12<33,5,IF(U12<37,6,IF(U12<41,7,IF(U12<46,8,IF(U12<52,9,10))))))))))) -> 0 | X13: =IF(X12="",0,IF($AY$1="男",IF(X12<15,1,IF(X12<19,2,IF(X12<23,3,IF(X12<27,4,IF(X12<30,5,IF(X12<34,6,IF(X12<38,7,IF(X12<43,8,IF(X12<29,9,10))))))))),IF(X12<18,1,IF(X12<21,2,IF(X12<25,3,IF(X12<29,4,IF(X12<33,5,IF(X12<37,6,IF(X12<41,7,IF(X12<46,8,IF(X12<52,9,10))))))))))) -> 0 | AA13: =IF(AA12="",0,IF($AY$1="男",IF(AA12<15,1,IF(AA12<19,2,IF(AA12<23,3,IF(AA12<27,4,IF(AA12<30,5,IF(AA12<34,6,IF(AA12<38,7,IF(AA12<43,8,IF(AA12<29,9,10))))))))),IF(AA12<18,1,IF(AA12<21,2,IF(AA12<25,3,IF(AA12<29,4,IF(AA12<33,5,IF(AA12<37,6,IF(AA12<41,7,IF(AA12<46,8,IF(AA12<52,9,10))))))))))) -> 0 | AE13: 得点 | AG13: =IF(AG12="",0,IF($AY$1="男",IF(AG12<18,1,IF(AG12<22,2,IF(AG12<26,3,IF(AG12<30,4,IF(AG12<34,5,IF(AG12<38,6,IF(AG12<42,7,IF(AG12<46,8,IF(AG12<50,9,10))))))))),IF(AG12<17,1,IF(AG12<21,2,IF(AG12<25,3,IF(AG12<28,4,IF(AG12<32,5,IF(AG12<36,6,IF(AG12<40,7,IF(AG12<43,8,IF(AG12<47,9,10))))))))))) -> 0 | AJ13: =IF(AJ12="",0,IF($AY$1="男",IF(AJ12<18,1,IF(AJ12<22,2,IF(AJ12<26,3,IF(AJ12<30,4,IF(AJ12<34,5,IF(AJ12<38,6,IF(AJ12<42,7,IF(AJ12<46,8,IF(AJ12<50,9,10))))))))),IF(AJ12<17,1,IF(AJ12<21,2,IF(AJ12<25,3,IF(AJ12<28,4,IF(AJ12<32,5,IF(AJ12<36,6,IF(AJ12<40,7,IF(AJ12<43,8,IF(AJ12<47,9,10))))))))))) -> 0 | AM13: =IF(AM12="",0,IF($AY$1="男",IF(AM12<18,1,IF(AM12<22,2,IF(AM12<26,3,IF(AM12<30,4,IF(AM12<34,5,IF(AM12<38,6,IF(AM12<42,7,IF(AM12<46,8,IF(AM12<50,9,10))))))))),IF(AM12<17,1,IF(AM12<21,2,IF(AM12<25,3,IF(AM12<28,4,IF(AM12<32,5,IF(AM12<36,6,IF(AM12<40,7,IF(AM12<43,8,IF(AM12<47,9,10))))))))))) -> 0 | AP13: =IF(AP12="",0,IF($AY$1="男",IF(AP12<18,1,IF(AP12<22,2,IF(AP12<26,3,IF(AP12<30,4,IF(AP12<34,5,IF(AP12<38,6,IF(AP12<42,7,IF(AP12<46,8,IF(AP12<50,9,10))))))))),IF(AP12<17,1,IF(AP12<21,2,IF(AP12<25,3,IF(AP12<28,4,IF(AP12<32,5,IF(AP12<36,6,IF(AP12<40,7,IF(AP12<43,8,IF(AP12<47,9,10))))))))))) -> 0 | AT13: 得点 | AV13: =IF(AV12="",0,IF($AY$1="男",IF(AV12<18,1,IF(AV12<22,2,IF(AV12<26,3,IF(AV12<30,4,IF(AV12<34,5,IF(AV12<38,6,IF(AV12<42,7,IF(AV12<46,8,IF(AV12<50,9,10))))))))),IF(AV12<17,1,IF(AV12<21,2,IF(AV12<25,3,IF(AV12<28,4,IF(AV12<32,5,IF(AV12<36,6,IF(AV12<40,7,IF(AV12<43,8,IF(AV12<47,9,10))))))))))) -> 0 | AY13: =IF(AY12="",0,IF($AY$1="男",IF(AY12<18,1,IF(AY12<22,2,IF(AY12<26,3,IF(AY12<30,4,IF(AY12<34,5,IF(AY12<38,6,IF(AY12<42,7,IF(AY12<46,8,IF(AY12<50,9,10))))))))),IF(AY12<17,1,IF(AY12<21,2,IF(AY12<25,3,IF(AY12<28,4,IF(AY12<32,5,IF(AY12<36,6,IF(AY12<40,7,IF(AY12<43,8,IF(AY12<47,9,10))))))))))) -> 0 | BB13: =IF(BB12="",0,IF($AY$1="男",IF(BB12<18,1,IF(BB12<22,2,IF(BB12<26,3,IF(BB12<30,4,IF(BB12<34,5,IF(BB12<38,6,IF(BB12<42,7,IF(BB12<46,8,IF(BB12<50,9,10))))))))),IF(BB12<17,1,IF(BB12<21,2,IF(BB12<25,3,IF(BB12<28,4,IF(BB12<32,5,IF(BB12<36,6,IF(BB12<40,7,IF(BB12<43,8,IF(BB12<47,9,10))))))))))) -> 0 | BE13: =IF(BE12="",0,IF($AY$1="男",IF(BE12<18,1,IF(BE12<22,2,IF(BE12<26,3,IF(BE12<30,4,IF(BE12<34,5,IF(BE12<38,6,IF(BE12<42,7,IF(BE12<46,8,IF(BE12<50,9,10))))))))),IF(BE12<17,1,IF(BE12<21,2,IF(BE12<25,3,IF(BE12<28,4,IF(BE12<32,5,IF(BE12<36,6,IF(BE12<40,7,IF(BE12<43,8,IF(BE12<47,9,10))))))))))) -> 0
A15: ２０ｍシャトルラン（単位：回） | P15: 今年の目標 | AE15: ５０ｍ走（単位：秒） | AT15: 今年の目標
A16: 学年 | C16: ３年生 | F16: ４年生 | I16: ５年生 | L16: ６年生 | P16: 学年 | R16: ３年生 | U16: ４年生 | X16: ５年生 | AA16: ６年生 | AE16: 学年 | AG16: ３年生 | AJ16: ４年生 | AM16: ５年生 | AP16: ６年生 | AT16: 学年 | AV16: ３年生 | AY16: ４年生 | BB16: ５年生 | BE16: ６年生
A17: 回数 | P17: 回数 | AE17: 秒 | AT17: 秒
A18: 得点 | C18: =IF(C17="",0,IF($AY$1="男",IF(C17<8,1,IF(C17<10,2,IF(C17<15,3,IF(C17<23,4,IF(C17<33,5,IF(C17<45,6,IF(C17<57,7,IF(C17<69,8,IF(C17<80,9,10))))))))),IF(C17<8,1,IF(C17<10,2,IF(C17<14,3,IF(C17<19,4,IF(C17<26,5,IF(C17<35,6,IF(C17<44,7,IF(C17<54,8,IF(C17<64,9,10))))))))))) -> 0 | F18: =IF(F17="",0,IF($AY$1="男",IF(F17<8,1,IF(F17<10,2,IF(F17<15,3,IF(F17<23,4,IF(F17<33,5,IF(F17<45,6,IF(F17<57,7,IF(F17<69,8,IF(F17<80,9,10))))))))),IF(F17<8,1,IF(F17<10,2,IF(F17<14,3,IF(F17<19,4,IF(F17<26,5,IF(F17<35,6,IF(F17<44,7,IF(F17<54,8,IF(F17<64,9,10))))))))))) -> 0 | I18: =IF(I17="",0,IF($AY$1="男",IF(I17<8,1,IF(I17<10,2,IF(I17<15,3,IF(I17<23,4,IF(I17<33,5,IF(I17<45,6,IF(I17<57,7,IF(I17<69,8,IF(I17<80,9,10))))))))),IF(I17<8,1,IF(I17<10,2,IF(I17<14,3,IF(I17<19,4,IF(I17<26,5,IF(I17<35,6,IF(I17<44,7,IF(I17<54,8,IF(I17<64,9,10))))))))))) -> 0 | L18: =IF(L17="",0,IF($AY$1="男",IF(L17<8,1,IF(L17<10,2,IF(L17<15,3,IF(L17<23,4,IF(L17<33,5,IF(L17<45,6,IF(L17<57,7,IF(L17<69,8,IF(L17<80,9,10))))))))),IF(L17<8,1,IF(L17<10,2,IF(L17<14,3,IF(L17<19,4,IF(L17<26,5,IF(L17<35,6,IF(L17<44,7,IF(L17<54,8,IF(L17<64,9,10))))))))))) -> 0 | P18: 得点 | R18: =IF(R17="",0,IF($AY$1="男",IF(R17<8,1,IF(R17<10,2,IF(R17<15,3,IF(R17<23,4,IF(R17<33,5,IF(R17<45,6,IF(R17<57,7,IF(R17<69,8,IF(R17<80,9,10))))))))),IF(R17<8,1,IF(R17<10,2,IF(R17<14,3,IF(R17<19,4,IF(R17<26,5,IF(R17<35,6,IF(R17<44,7,IF(R17<54,8,IF(R17<64,9,10))))))))))) -> 0 | U18: =IF(U17="",0,IF($AY$1="男",IF(U17<8,1,IF(U17<10,2,IF(U17<15,3,IF(U17<23,4,IF(U17<33,5,IF(U17<45,6,IF(U17<57,7,IF(U17<69,8,IF(U17<80,9,10))))))))),IF(U17<8,1,IF(U17<10,2,IF(U17<14,3,IF(U17<19,4,IF(U17<26,5,IF(U17<35,6,IF(U17<44,7,IF(U17<54,8,IF(U17<64,9,10))))))))))) -> 0 | X18: =IF(X17="",0,IF($AY$1="男",IF(X17<8,1,IF(X17<10,2,IF(X17<15,3,IF(X17<23,4,IF(X17<33,5,IF(X17<45,6,IF(X17<57,7,IF(X17<69,8,IF(X17<80,9,10))))))))),IF(X17<8,1,IF(X17<10,2,IF(X17<14,3,IF(X17<19,4,IF(X17<26,5,IF(X17<35,6,IF(X17<44,7,IF(X17<54,8,IF(X17<64,9,10))))))))))) -> 0 | AA18: =IF(AA17="",0,IF($AY$1="男",IF(AA17<8,1,IF(AA17<10,2,IF(AA17<15,3,IF(AA17<23,4,IF(AA17<33,5,IF(AA17<45,6,IF(AA17<57,7,IF(AA17<69,8,IF(AA17<80,9,10))))))))),IF(AA17<8,1,IF(AA17<10,2,IF(AA17<14,3,IF(AA17<19,4,IF(AA17<26,5,IF(AA17<35,6,IF(AA17<44,7,IF(AA17<54,8,IF(AA17<64,9,10))))))))))) -> 0 | AE18: 得点 | AG18: =IF(AG17="",0,IF($AY$1="男",IF(AG17<8.1,10,IF(AG17<8.5,9,IF(AG17<8.9,8,IF(AG17<9.4,7,IF(AG17<10,6,IF(AG17<10.7,5,IF(AG17<11.5,4,IF(AG17<12.3,3,IF(AG17<13.1,2,1))))))))),IF(AG17<8.4,10,IF(AG17<8.8,9,IF(AG17<9.2,8,IF(AG17<9.7,7,IF(AG17<10.3,6,IF(AG17<11,5,IF(AG17<11.7,4,IF(AG17<12.5,3,IF(AG17<13.3,2,1))))))))))) -> 0 | AJ18: =IF(AJ17="",0,IF($AY$1="男",IF(AJ17<8.1,10,IF(AJ17<8.5,9,IF(AJ17<8.9,8,IF(AJ17<9.4,7,IF(AJ17<10,6,IF(AJ17<10.7,5,IF(AJ17<11.5,4,IF(AJ17<12.3,3,IF(AJ17<13.1,2,1))))))))),IF(AJ17<8.4,10,IF(AJ17<8.8,9,IF(AJ17<9.2,8,IF(AJ17<9.7,7,IF(AJ17<10.3,6,IF(AJ17<11,5,IF(AJ17<11.7,4,IF(AJ17<12.5,3,IF(AJ17<13.3,2,1))))))))))) -> 0 | AM18: =IF(AM17="",0,IF($AY$1="男",IF(AM17<8.1,10,IF(AM17<8.5,9,IF(AM17<8.9,8,IF(AM17<9.4,7,IF(AM17<10,6,IF(AM17<10.7,5,IF(AM17<11.5,4,IF(AM17<12.3,3,IF(AM17<13.1,2,1))))))))),IF(AM17<8.4,10,IF(AM17<8.8,9,IF(AM17<9.2,8,IF(AM17<9.7,7,IF(AM17<10.3,6,IF(AM17<11,5,IF(AM17<11.7,4,IF(AM17<12.5,3,IF(AM17<13.3,2,1))))))))))) -> 0 | AP18: =IF(AP17="",0,IF($AY$1="男",IF(AP17<8.1,10,IF(AP17<8.5,9,IF(AP17<8.9,8,IF(AP17<9.4,7,IF(AP17<10,6,IF(AP17<10.7,5,IF(AP17<11.5,4,IF(AP17<12.3,3,IF(AP17<13.1,2,1))))))))),IF(AP17<8.4,10,IF(AP17<8.8,9,IF(AP17<9.2,8,IF(AP17<9.7,7,IF(AP17<10.3,6,IF(AP17<11,5,IF(AP17<11.7,4,IF(AP17<12.5,3,IF(AP17<13.3,2,1))))))))))) -> 0 | AT18: 得点 | AV18: =IF(AV17="",0,IF($AY$1="男",IF(AV17<8.1,10,IF(AV17<8.5,9,IF(AV17<8.9,8,IF(AV17<9.4,7,IF(AV17<10,6,IF(AV17<10.7,5,IF(AV17<11.5,4,IF(AV17<12.3,3,IF(AV17<13.1,2,1))))))))),IF(AV17<8.4,10,IF(AV17<8.8,9,IF(AV17<9.2,8,IF(AV17<9.7,7,IF(AV17<10.3,6,IF(AV17<11,5,IF(AV17<11.7,4,IF(AV17<12.5,3,IF(AV17<13.3,2,1))))))))))) -> 0 | AY18: =IF(AY17="",0,IF($AY$1="男",IF(AY17<8.1,10,IF(AY17<8.5,9,IF(AY17<8.9,8,IF(AY17<9.4,7,IF(AY17<10,6,IF(AY17<10.7,5,IF(AY17<11.5,4,IF(AY17<12.3,3,IF(AY17<13.1,2,1))))))))),IF(AY17<8.4,10,IF(AY17<8.8,9,IF(AY17<9.2,8,IF(AY17<9.7,7,IF(AY17<10.3,6,IF(AY17<11,5,IF(AY17<11.7,4,IF(AY17<12.5,3,IF(AY17<13.3,2,1))))))))))) -> 0 | BB18: =IF(BB17="",0,IF($AY$1="男",IF(BB17<8.1,10,IF(BB17<8.5,9,IF(BB17<8.9,8,IF(BB17<9.4,7,IF(BB17<10,6,IF(BB17<10.7,5,IF(BB17<11.5,4,IF(BB17<12.3,3,IF(BB17<13.1,2,1))))))))),IF(BB17<8.4,10,IF(BB17<8.8,9,IF(BB17<9.2,8,IF(BB17<9.7,7,IF(BB17<10.3,6,IF(BB17<11,5,IF(BB17<11.7,4,IF(BB17<12.5,3,IF(BB17<13.3,2,1))))))))))) -> 0 | BE18: =IF(BE17="",0,IF($AY$1="男",IF(BE17<8.1,10,IF(BE17<8.5,9,IF(BE17<8.9,8,IF(BE17<9.4,7,IF(BE17<10,6,IF(BE17<10.7,5,IF(BE17<11.5,4,IF(BE17<12.3,3,IF(BE17<13.1,2,1))))))))),IF(BE17<8.4,10,IF(BE17<8.8,9,IF(BE17<9.2,8,IF(BE17<9.7,7,IF(BE17<10.3,6,IF(BE17<11,5,IF(BE17<11.7,4,IF(BE17<12.5,3,IF(BE17<13.3,2,1))))))))))) -> 0
A20: 立ち幅とび（単位：ｃｍ） | P20: 今年の目標 | AE20: ソフトボール投げ（単位：ｍ） | AT20: 今年の目標
A21: 学年 | C21: ３年生 | F21: ４年生 | I21: ５年生 | L21: ６年生 | P21: 学年 | R21: ３年生 | U21: ４年生 | X21: ５年生 | AA21: ６年生 | AE21: 学年 | AG21: ３年生 | AJ21: ４年生 | AM21: ５年生 | AP21: ６年生 | AT21: 学年 | AV21: ３年生 | AY21: ４年生 | BB21: ５年生 | BE21: ６年生
A22: ｃｍ | P22: ｃｍ | AE22: ｍ | AT22: ｍ
A23: 得点 | C23: =IF(C22="",0,IF($AY$1="男",IF(C22<93,1,IF(C22<105,2,IF(C22<117,3,IF(C22<130,4,IF(C22<143,5,IF(C22<156,6,IF(C22<168,7,IF(C22<180,8,IF(C22<192,9,10))))))))),IF(C22<85,1,IF(C22<98,2,IF(C22<109,3,IF(C22<121,4,IF(C22<134,5,IF(C22<147,6,IF(C22<160,7,IF(C22<170,8,IF(C22<181,9,10))))))))))) -> 0 | F23: =IF(F22="",0,IF($AY$1="男",IF(F22<93,1,IF(F22<105,2,IF(F22<117,3,IF(F22<130,4,IF(F22<143,5,IF(F22<156,6,IF(F22<168,7,IF(F22<180,8,IF(F22<192,9,10))))))))),IF(F22<85,1,IF(F22<98,2,IF(F22<109,3,IF(F22<121,4,IF(F22<134,5,IF(F22<147,6,IF(F22<160,7,IF(F22<170,8,IF(F22<181,9,10))))))))))) -> 0 | I23: =IF(I22="",0,IF($AY$1="男",IF(I22<93,1,IF(I22<105,2,IF(I22<117,3,IF(I22<130,4,IF(I22<143,5,IF(I22<156,6,IF(I22<168,7,IF(I22<180,8,IF(I22<192,9,10))))))))),IF(I22<85,1,IF(I22<98,2,IF(I22<109,3,IF(I22<121,4,IF(I22<134,5,IF(I22<147,6,IF(I22<160,7,IF(I22<170,8,IF(I22<181,9,10))))))))))) -> 0 | L23: =IF(L22="",0,IF($AY$1="男",IF(L22<93,1,IF(L22<105,2,IF(L22<117,3,IF(L22<130,4,IF(L22<143,5,IF(L22<156,6,IF(L22<168,7,IF(L22<180,8,IF(L22<192,9,10))))))))),IF(L22<85,1,IF(L22<98,2,IF(L22<109,3,IF(L22<121,4,IF(L22<134,5,IF(L22<147,6,IF(L22<160,7,IF(L22<170,8,IF(L22<181,9,10))))))))))) -> 0 | P23: 得点 | R23: =IF(R22="",0,IF($AY$1="男",IF(R22<93,1,IF(R22<105,2,IF(R22<117,3,IF(R22<130,4,IF(R22<143,5,IF(R22<156,6,IF(R22<168,7,IF(R22<180,8,IF(R22<192,9,10))))))))),IF(R22<85,1,IF(R22<98,2,IF(R22<109,3,IF(R22<121,4,IF(R22<134,5,IF(R22<147,6,IF(R22<160,7,IF(R22<170,8,IF(R22<181,9,10))))))))))) -> 0 | U23: =IF(U22="",0,IF($AY$1="男",IF(U22<93,1,IF(U22<105,2,IF(U22<117,3,IF(U22<130,4,IF(U22<143,5,IF(U22<156,6,IF(U22<168,7,IF(U22<180,8,IF(U22<192,9,10))))))))),IF(U22<85,1,IF(U22<98,2,IF(U22<109,3,IF(U22<121,4,IF(U22<134,5,IF(U22<147,6,IF(U22<160,7,IF(U22<170,8,IF(U22<181,9,10))))))))))) -> 0 | X23: =IF(X22="",0,IF($AY$1="男",IF(X22<93,1,IF(X22<105,2,IF(X22<117,3,IF(X22<130,4,IF(X22<143,5,IF(X22<156,6,IF(X22<168,7,IF(X22<180,8,IF(X22<192,9,10))))))))),IF(X22<85,1,IF(X22<98,2,IF(X22<109,3,IF(X22<121,4,IF(X22<134,5,IF(X22<147,6,IF(X22<160,7,IF(X22<170,8,IF(X22<181,9,10))))))))))) -> 0 | AA23: =IF(AA22="",0,IF($AY$1="男",IF(AA22<93,1,IF(AA22<105,2,IF(AA22<117,3,IF(AA22<130,4,IF(AA22<143,5,IF(AA22<156,6,IF(AA22<168,7,IF(AA22<180,8,IF(AA22<192,9,10))))))))),IF(AA22<85,1,IF(AA22<98,2,IF(AA22<109,3,IF(AA22<121,4,IF(AA22<134,5,IF(AA22<147,6,IF(AA22<160,7,IF(AA22<170,8,IF(AA22<181,9,10))))))))))) -> 0 | AE23: 得点 | AG23: =IF(AG22="",0,IF($AY$1="男",IF(AG22<5,1,IF(AG22<7,2,IF(AG22<10,3,IF(AG22<12,4,IF(AG22<18,5,IF(AG22<24,6,IF(AG22<30,7,IF(AG22<35,8,IF(AG22<40,9,10))))))))),IF(AG22<4,1,IF(AG22<5,2,IF(AG22<6,3,IF(AG22<8,4,IF(AG22<11,5,IF(AG22<14,6,IF(AG22<17,7,IF(AG22<21,8,IF(AG22<25,9,10))))))))))) -> 0 | AJ23: =IF(AJ22="",0,IF($AY$1="男",IF(AJ22<5,1,IF(AJ22<7,2,IF(AJ22<10,3,IF(AJ22<12,4,IF(AJ22<18,5,IF(AJ22<24,6,IF(AJ22<30,7,IF(AJ22<35,8,IF(AJ22<40,9,10))))))))),IF(AJ22<4,1,IF(AJ22<5,2,IF(AJ22<6,3,IF(AJ22<8,4,IF(AJ22<11,5,IF(AJ22<14,6,IF(AJ22<17,7,IF(AJ22<21,8,IF(AJ22<25,9,10))))))))))) -> 0 | AM23: =IF(AM22="",0,IF($AY$1="男",IF(AM22<5,1,IF(AM22<7,2,IF(AM22<10,3,IF(AM22<12,4,IF(AM22<18,5,IF(AM22<24,6,IF(AM22<30,7,IF(AM22<35,8,IF(AM22<40,9,10))))))))),IF(AM22<4,1,IF(AM22<5,2,IF(AM22<6,3,IF(AM22<8,4,IF(AM22<11,5,IF(AM22<14,6,IF(AM22<17,7,IF(AM22<21,8,IF(AM22<25,9,10))))))))))) -> 0 | AP23: =IF(AP22="",0,IF($AY$1="男",IF(AP22<5,1,IF(AP22<7,2,IF(AP22<10,3,IF(AP22<12,4,IF(AP22<18,5,IF(AP22<24,6,IF(AP22<30,7,IF(AP22<35,8,IF(AP22<40,9,10))))))))),IF(AP22<4,1,IF(AP22<5,2,IF(AP22<6,3,IF(AP22<8,4,IF(AP22<11,5,IF(AP22<14,6,IF(AP22<17,7,IF(AP22<21,8,IF(AP22<25,9,10))))))))))) -> 0 | AT23: 得点 | AV23: =IF(AV22="",0,IF($AY$1="男",IF(AV22<5,1,IF(AV22<7,2,IF(AV22<10,3,IF(AV22<12,4,IF(AV22<18,5,IF(AV22<24,6,IF(AV22<30,7,IF(AV22<35,8,IF(AV22<40,9,10))))))))),IF(AV22<4,1,IF(AV22<5,2,IF(AV22<6,3,IF(AV22<8,4,IF(AV22<11,5,IF(AV22<14,6,IF(AV22<17,7,IF(AV22<21,8,IF(AV22<25,9,10))))))))))) -> 0 | AY23: =IF(AY22="",0,IF($AY$1="男",IF(AY22<5,1,IF(AY22<7,2,IF(AY22<10,3,IF(AY22<12,4,IF(AY22<18,5,IF(AY22<24,6,IF(AY22<30,7,IF(AY22<35,8,IF(AY22<40,9,10))))))))),IF(AY22<4,1,IF(AY22<5,2,IF(AY22<6,3,IF(AY22<8,4,IF(AY22<11,5,IF(AY22<14,6,IF(AY22<17,7,IF(AY22<21,8,IF(AY22<25,9,10))))))))))) -> 0 | BB23: =IF(BB22="",0,IF($AY$1="男",IF(BB22<5,1,IF(BB22<7,2,IF(BB22<10,3,IF(BB22<12,4,IF(BB22<18,5,IF(BB22<24,6,IF(BB22<30,7,IF(BB22<35,8,IF(BB22<40,9,10))))))))),IF(BB22<4,1,IF(BB22<5,2,IF(BB22<6,3,IF(BB22<8,4,IF(BB22<11,5,IF(BB22<14,6,IF(BB22<17,7,IF(BB22<21,8,IF(BB22<25,9,10))))))))))) -> 0 | BE23: =IF(BE22="",0,IF($AY$1="男",IF(BE22<5,1,IF(BE22<7,2,IF(BE22<10,3,IF(BE22<12,4,IF(BE22<18,5,IF(BE22<24,6,IF(BE22<30,7,IF(BE22<35,8,IF(BE22<40,9,10))))))))),IF(BE22<4,1,IF(BE22<5,2,IF(BE22<6,3,IF(BE22<8,4,IF(BE22<11,5,IF(BE22<14,6,IF(BE22<17,7,IF(BE22<21,8,IF(BE22<25,9,10))))))))))) -> 0
A25: 総合評価 | G25: ３年生 | M25: ４年生 | S25: ５年生 | Y25: ６年生
A26: 得点の合計 | G26: =SUM(C8,AG7,C13,AG13,C18,AG18,C23,AG23) -> 0 | M26: =SUM(F8,AJ7,F13,AJ13,F18,AJ18,F23,AJ23) -> 0 | S26: =SUM(I8,AM7,I13,AM13,I18,AM18,I23,AM23) -> 0 | Y26: =SUM(L8,AP7,L13,AP13,L18,AP18,L23,AP23) -> 0
A27: 評価 （A～E） | G27: =IF(G26<32,"E",IF(G26<39,"D",IF(G26<46,"C",IF(G26<53,"B","A")))) -> E | M27: =IF(M26<38,"E",IF(M26<45,"D",IF(M26<52,"C",IF(M26<59,"B","A")))) -> E | S27: =IF(S26<42,"E",IF(S26<50,"D",IF(S26<58,"C",IF(S26<65,"B","A")))) -> E | Y27: =IF(Y26<46,"E",IF(Y26<55,"D",IF(Y26<63,"C",IF(Y26<71,"B","A")))) -> E
A29: 段階 | C29: １年生 | G29: ２年生 | K29: ３年生 | O29: ４年生 | S29: ５年生 | W29: ６年生 | AA29: 段階
A30: A | C30: 39以上 | G30: 47以上 | K30: 53以上 | O30: 59以上 | S30: 65以上 | W30: 71以上 | AA30: A
A31: B | C31: 33～38 | G31: 41～46 | K31: 46～52 | O31: 52～58 | S31: 58～64 | W31: 63～70 | AA31: B
A32: C | C32: 27～32 | G32: 34～40 | K32: 39～45 | O32: 45～51 | S32: 50～57 | W32: 55～62 | AA32: C
A33: D | C33: 22～26 | G33: 27～33 | K33: 32～38 | O33: 38～44 | S33: 42～49 | W33: 46～54 | AA33: D
A34: E | C34: 21以下 | G34: 26以下 | K34: 31以下 | O34: 37以下 | S34: 41以下 | W34: 45以下 | AA34: E
A36: 項目別得点表 | H36: 男子 | AE36: 女子
A37: 得点 | C37: 握力 | F37: 上体 起こし | I37: 長座 体前屈 | L37: 反復 横とび | O37: 20m ｼｬﾄﾙﾗﾝ | R37: 50m走 | U37: 立ち 幅とび | X37: ｿﾌﾄﾎﾞｰﾙ 投げ | AE37: 得点 | AG37: 握力 | AJ37: 上体 起こし | AM37: 長座 体前屈 | AP37: 反復 横とび | AS37: 20m ｼｬﾄﾙﾗﾝ | AV37: 50m走 | AY37: 立ち 幅とび | BB37: ｿﾌﾄﾎﾞｰﾙ 投げ
A38: 10 | C38: 26kg以上 | F38: 26回以上 | I38: 49cm以上 | L38: 50点以上 | O38: 80回以上 | R38: 8.0秒以下 | U38: 192cm以上 | X38: 40m以上 | AE38: 10 | AG38: 25kg以上 | AJ38: 23回以上 | AM38: 52cm以上 | AP38: 47点以上 | AS38: 64回以上 | AV38: 8.3秒以下 | AY38: 181cm以上 | BB38: 25m以上
A39: 9 | C39: 23～25 | F39: 23～25 | I39: 43～48 | L39: 46～49 | O39: 69～79 | R39: 8.1～8.4 | U39: 180～191 | X39: 35～39 | AE39: 9 | AG39: 22～24 | AJ39: 20～22 | AM39: 46～51 | AP39: 43～46 | AS39: 54～63 | AV39: 8.4～8.7 | AY39: 170～180 | BB39: 21～24
A40: 8 | C40: 20～22 | F40: 20～22 | I40: 38～42 | L40: 42～45 | O40: 57～68 | R40: 8.5～8.8 | U40: 168～179 | X40: 30～34 | AE40: 8 | AG40: 19～21 | AJ40: 18～19 | AM40: 41～45 | AP40: 40～42 | AS40: 44～53 | AV40: 8.8～9.1 | AY40: 160～169 | BB40: 17～20
A41: 7 | C41: 17～19 | F41: 18～19 | I41: 34～37 | L41: 38～41 | O41: 45～56 | R41: 8.9～9.3 | U41: 156～167 | X41: 24～29 | AE41: 7 | AG41: 16～18 | AJ41: 16～17 | AM41: 37～40 | AP41: 36～39 | AS41: 35～43 | AV41: 9.2～9.6 | AY41: 147～159 | BB41: 14～16
A42: 6 | C42: 14～16 | F42: 15～17 | I42: 30～33 | L42: 34～37 | O42: 33～44 | R42: 9.4～9.9 | U42: 143～155 | X42: 18～23 | AE42: 6 | AG42: 13～15 | AJ42: 14～15 | AM42: 33～36 | AP42: 32～35 | AS42: 26～34 | AV42: 9.7～10.2 | AY42: 134～146 | BB42: 11～13
A43: 5 | C43: 11～13 | F43: 12～14 | I43: 27～29 | L43: 30～33 | O43: 23～32 | R43: 10.0～10.6 | U43: 130～142 | X43: 12～17 | AE43: 5 | AG43: 11～12 | AJ43: 12～13 | AM43: 29～32 | AP43: 28～31 | AS43: 19～25 | AV43: 10.3～10.9 | AY43: 121～133 | BB43: 8～10
A44: 4 | C44: 9～10 | F44: 9～11 | I44: 23～26 | L44: 26～29 | O44: 15～22 | R44: 10.7～11.4 | U44: 117～129 | X44: 10～12 | AE44: 4 | AG44: 9～10 | AJ44: 9～11 | AM44: 25～28 | AP44: 25～27 | AS44: 14～18 | AV44: 11.0～11.6 | AY44: 109～120 | BB44: 6～7
A45: 3 | C45: 7～8 | F45: 6～8 | I45: 19～22 | L45: 22～25 | O45: 10～14 | R45: 11.5～12.2 | U45: 105～116 | X45: 7～9 | AE45: 3 | AG45: 7～8 | AJ45: 6～8 | AM45: 21～24 | AP45: 21～24 | AS45: 10～13 | AV45: 11.7～12.4 | AY45: 98～108 | BB45: 5
A46: 2 | C46: 5～6 | F46: 3～5 | I46: 15～18 | L46: 18～21 | O46: 8～9 | R46: 12.3～13.0 | U46: 93～104 | X46: 5～6 | AE46: 2 | AG46: 4～6 | AJ46: 3～5 | AM46: 18～20 | AP46: 17～20 | AS46: 8～9 | AV46: 12.5～13.2 | AY46: 85～97 | BB46: 4
A47: 1 | C47: 4kg以下 | F47: 2回以下 | I47: 14cm以下 | L47: 17点以下 | O47: 7回以下 | R47: 13.1秒以上 | U47: 92cm以下 | X47: 4m以下 | AE47: 1 | AG47: 3kg以下 | AJ47: 2回以下 | AM47: 17cm以下 | AP47: 16点以下 | AS47: 7回以下 | AV47: 13.3秒以上 | AY47: 84cm以下 | BB47: 3m以下

Sheet 記録一覧
A1: 記録
B2: 3年生 | C2: 4年生 | D2: 5年生 | E2: 6年生
A3: 握力 | B3: =体力アップ記録シート!C7 | C3: =体力アップ記録シート!F7 | D3: =体力アップ記録シート!I7 | E3: =体力アップ記録シート!L7
A4: 上体起こし | B4: =体力アップ記録シート!AG5 -> 0 | C4: =体力アップ記録シート!AJ5 -> 0 | D4: =体力アップ記録シート!AM5 -> 0 | E4: =体力アップ記録シート!AP5 -> 0
A5: 長座体前屈 | B5: =体力アップ記録シート!C12 -> 0 | C5: =体力アップ記録シート!F12 -> 0 | D5: =体力アップ記録シート!I12 -> 0 | E5: =体力アップ記録シート!L12 -> 0
A6: 反復横とび | B6: =体力アップ記録シート!AG12 -> 0 | C6: =体力アップ記録シート!AJ12 -> 0 | D6: =体力アップ記録シート!AM12 -> 0 | E6: =体力アップ記録シート!AP12 -> 0
A7: 20mシャトルラン | B7: =体力アップ記録シート!C17 -> 0 | C7: =体力アップ記録シート!F17 -> 0 | D7: =体力アップ記録シート!I17 -> 0 | E7: =体力アップ記録シート!L17 -> 0
A8: 50m走 | B8: =体力アップ記録シート!AG17 -> 0 | C8: =体力アップ記録シート!AJ17 -> 0 | D8: =体力アップ記録シート!AM17 -> 0 | E8: =体力アップ記録シート!AP17 -> 0
A9: 立ち幅とび | B9: =体力アップ記録シート!C22 -> 0 | C9: =体力アップ記録シート!F22 -> 0 | D9: =体力アップ記録シート!I22 -> 0 | E9: =体力アップ記録シート!L22 -> 0
A10: ソフトボール投げ | B10: =体力アップ記録シート!AG22 -> 0 | C10: =体力アップ記録シート!AJ22 -> 0 | D10: =体力アップ記録シート!AM22 -> 0 | E10: =体力アップ記録シート!AP22 -> 0
A12: 得点
B13: 3年生 | C13: 4年生 | D13: 5年生 | E13: 6年生
A14: 握力 | B14: 0 | C14: =体力アップ記録シート!F8 -> 0 | D14: =体力アップ記録シート!I8 -> 0 | E14: =体力アップ記録シート!L8 -> 0
A15: 上体起こし | B15: =体力アップ記録シート!AG7 -> 0 | C15: =体力アップ記録シート!AJ7 -> 0 | D15: =体力アップ記録シート!AM7 -> 0 | E15: =体力アップ記録シート!AP7 -> 0
A16: 長座体前屈 | B16: =体力アップ記録シート!C13 -> 0 | C16: =体力アップ記録シート!F13 -> 0 | D16: =体力アップ記録シート!I13 -> 0 | E16: =体力アップ記録シート!L13 -> 0
A17: 反復横とび | B17: =体力アップ記録シート!AG13 -> 0 | C17: =体力アップ記録シート!AJ13 -> 0 | D17: =体力アップ記録シート!AM13 -> 0 | E17: =体力アップ記録シート!AP13 -> 0
A18: 20mシャトルラン | B18: =体力アップ記録シート!C18 -> 0 | C18: =体力アップ記録シート!F18 -> 0 | D18: =体力アップ記録シート!I18 -> 0 | E18: =体力アップ記録シート!L18 -> 0
A19: 50m走 | B19: =体力アップ記録シート!AG18 -> 0 | C19: =体力アップ記録シート!AJ18 -> 0 | D19: =体力アップ記録シート!AM18 -> 0 | E19: =体力アップ記録シート!AP18 -> 0
A20: 立ち幅とび | B20: =体力アップ記録シート!C23 -> 0 | C20: =体力アップ記録シート!F23 -> 0 | D20: =体力アップ記録シート!I23 -> 0 | E20: =体力アップ記録シート!L23 -> 0
A21: ソフトボール投げ | B21: =体力アップ記録シート!AG23 -> 0 | C21: =体力アップ記録シート!AJ23 -> 0 | D21: =体力アップ記録シート!AM23 -> 0 | E21: =体力アップ記録シート!AP23 -> 0
